BEGIN:VCALENDAR
VERSION:2.0
PRODID:-//ChamberMaster//Event Calendar 2.0//EN
METHOD:PUBLISH
X-PUBLISHED-TTL:P3D
REFRESH-INTERVAL:P3D
CALSCALE:GREGORIAN
BEGIN:VEVENT
DTSTART:20200926T000000Z
DTEND:20200926T013000Z
X-MICROSOFT-CDO-ALLDAYEVENT:FALSE
SUMMARY:Gulf Coast Comedy Fest Nights at OWA
DESCRIPTION:Don't Miss Gulf Coast's Hottest Night of Comedy! Get ready to meet our feature\, Christophe Jean and headliner\, Ben Brainard - Comedian both coming all the way from Orlando\, FL! Of course\, Brandon Styles Live at OWA - Impressionist & Magician will be our emcee this go-around!\n\n\n\nThe September 24th and 25th shows will be the same acts. Seating is limited to 50 guests due to social distancing guidelines. Must purchase tickets in advance\, door sales are not available.\n\n\n\nDoors open at 6:00 pm for seating. The show starts at 7:00 pm. Located inside Brandon Styles LIVE Theater in Downtown OWA\, Suite 101-H\, between Alvin's Island & Crazy Donuts.\n\n\n\nGeneral admission: $32.00\n\nVIP tables are available*\n\n\n\nTickets at GulfCoastComedyFest.com
X-ALT-DESC;FMTTYPE=text/html:<div>\n<div><span style="color:rgb(29\, 33\, 41)\; font-family:helvetica\,arial\,sans-serif\; font-size:14px">Don&#39\;t Miss Gulf Coast&#39\;s Hottest Night of Comedy! Get ready to meet our feature\, Christophe Jean and headliner\,&nbsp\;</span><a href="https://www.facebook.com/ComedianBenBrainard/" style="color: rgb(56\, 88\, 152)\; cursor: pointer\; text-decoration-line: none\; font-family: Helvetica\, Arial\, sans-serif\; font-size: 14px\; white-space: pre-wrap\;" target="_blank">Ben Brainard - Comedian</a><span style="color:rgb(29\, 33\, 41)\; font-family:helvetica\,arial\,sans-serif\; font-size:14px">&nbsp\;both coming all the way from Orlando\, FL! Of course\,&nbsp\;</span><a href="https://www.facebook.com/brandonstylesshow/" style="color: rgb(56\, 88\, 152)\; cursor: pointer\; text-decoration-line: none\; font-family: Helvetica\, Arial\, sans-serif\; font-size: 14px\; white-space: pre-wrap\;" target="_blank">Brandon Styles Live at OWA - Impressionist &amp\; Magician</a><span style="color:rgb(29\, 33\, 41)\; font-family:helvetica\,arial\,sans-serif\; font-size:14px">&nbsp\;will be our emcee this go-around!</span><br />\n<br />\n<span style="color:rgb(29\, 33\, 41)\; font-family:helvetica\,arial\,sans-serif\; font-size:14px">The September 24th and 25th shows will be the same acts. Seating is limited to 50 guests due to social distancing guidelines. Must purchase tickets in advance\, door sales are not available.</span><br />\n<br />\n<span style="color:rgb(29\, 33\, 41)\; font-family:helvetica\,arial\,sans-serif\; font-size:14px">Doors open at 6:00 pm for seating. The show starts at 7:00 pm. Located inside Brandon Styles LIVE Theater in Downtown OWA\, Suite 101-H\, between Alvin&#39\;s Island &amp\; Crazy Donuts.</span><br />\n<br />\n<span style="color:rgb(29\, 33\, 41)\; font-family:helvetica\,arial\,sans-serif\; font-size:14px">General admission: $32.00</span><br />\n<span style="color:rgb(29\, 33\, 41)\; font-family:helvetica\,arial\,sans-serif\; font-size:14px">VIP tables are available*</span><br />\n<br />\n<span style="color:rgb(29\, 33\, 41)\; font-family:helvetica\,arial\,sans-serif\; font-size:14px">Tickets at&nbsp\;</span><a href="http://gulfcoastcomedyfest.com/?fbclid=IwAR0ewunMVWyxJx9lLNK_yHWqTIaj88RbXMebVsvXl2j4fN_DxGBI40xQGfE" rel="nofollow noopener" style="color: rgb(56\, 88\, 152)\; cursor: pointer\; text-decoration-line: none\; font-family: Helvetica\, Arial\, sans-serif\; font-size: 14px\; white-space: pre-wrap\;" target="_blank">GulfCoastComedyFest.com</a></div>\n</div>\n
LOCATION:The event will take place inside Brandon Styles Live Theater in Downtown OWA. 101-H South OWA Blvd.\, Foley\, AL 36535.
UID:e.1304.14256
SEQUENCE:3
DTSTAMP:20260424T070855Z
URL:https://business.eschamber.com/events/details/gulf-coast-comedy-fest-nights-at-owa-09-25-2020-14256
END:VEVENT

END:VCALENDAR
