BEGIN:VCALENDAR
VERSION:2.0
PRODID:-//ChamberMaster//Event Calendar 2.0//EN
METHOD:PUBLISH
X-PUBLISHED-TTL:P3D
REFRESH-INTERVAL:P3D
CALSCALE:GREGORIAN
BEGIN:VEVENT
DTSTART:20240727T140000Z
DTEND:20240728T220000Z
X-MICROSOFT-CDO-ALLDAYEVENT:FALSE
SUMMARY:Gulf Coast Exotic Animal Expo
DESCRIPTION:Join us July 27th & 28th\, 2024\, at the Abba Shriner's Auditorium for the 6th Gulf Coast Exotic Animal Expo. Hosted by the South Alabama Cage Bird Society\, the Expo will bring you a brilliant bird fair as well as feature other exciting and exotic reptiles\, amphibians\, and mammals. There will be all the fuzzy\, furry\, creepy\, crawly\, cute\, cuddly\, slinky\, slimy and feathered fun that you and your family can handle! There's something for everyone   you can get amazing pets\, supplies\, and feed or just come hang out and enjoy all the animals and activities. This is THE exotic pet expo you don't want to miss!
X-ALT-DESC;FMTTYPE=text/html:Join us July 27th &amp\; 28th\, 2024\, at the Abba Shriner&rsquo\;s Auditorium for the 6th Gulf Coast Exotic Animal Expo. Hosted by the South Alabama Cage Bird Society\, the Expo will bring you a brilliant bird fair as well as feature other exciting and exotic reptiles\, amphibians\, and mammals. There will be all the fuzzy\, furry\, creepy\, crawly\, cute\, cuddly\, slinky\, slimy and feathered fun that you and your family can handle! There&rsquo\;s something for everyone &ndash\; you can get amazing pets\, supplies\, and feed or just come hang out and enjoy all the animals and activities. This is THE exotic pet expo you don&rsquo\;t want to miss!
LOCATION:Abba Temple 7701 Hitt rd. Mobile\,AL 36695
UID:e.1304.32095
SEQUENCE:3
DTSTAMP:20260419T191138Z
URL:https://business.eschamber.com/events/details/gulf-coast-exotic-animal-expo-32095
END:VEVENT

END:VCALENDAR
