BEGIN:VCALENDAR
VERSION:2.0
PRODID:-//ChamberMaster//Event Calendar 2.0//EN
METHOD:PUBLISH
X-PUBLISHED-TTL:P3D
REFRESH-INTERVAL:P3D
CALSCALE:GREGORIAN
BEGIN:VEVENT
DTSTART;VALUE=DATE:20230930
DTEND;VALUE=DATE:20231001
TRANSP:TRANSPARENT
X-MICROSOFT-CDO-ALLDAYEVENT:TRUE
SUMMARY:Gulf Coast Paddle & Racket Battle
DESCRIPTION:Mark your calendar for September 30! The 1st annual Gulf Coast Paddle & Racket Battle   a UTR and UTRP-sanctioned pickleball and tennis tournament benefitting the American Heart Association   comes to the Daphne Tennis and Pickleball Complex in Daphne\, Ala. Proceeds benefit the American Heart Association. The tournament features Men's and Woman's Doubles and Junior's singles competitions. We are looking for local businesses to sponsor this event and help make it a success for the AHA and the community.
X-ALT-DESC;FMTTYPE=text/html:Mark your calendar for September 30! The 1st annual Gulf Coast Paddle &amp\; Racket Battle &mdash\; a UTR and UTRP-sanctioned pickleball and tennis tournament benefitting the American Heart Association &mdash\; comes to the Daphne Tennis and Pickleball Complex in Daphne\, Ala. Proceeds benefit the American Heart Association. The tournament features Men&rsquo\;s and Woman&rsquo\;s Doubles and Junior&rsquo\;s singles competitions. We are looking for local businesses to sponsor this event and help make it a success for the AHA and the community.
LOCATION:Daphne Tennis & Pickleball Complex
UID:e.1304.28032
SEQUENCE:3
DTSTAMP:20260420T015247Z
URL:https://business.eschamber.com/events/details/gulf-coast-paddle-racket-battle-28032
END:VEVENT

END:VCALENDAR
