BEGIN:VCALENDAR
VERSION:2.0
PRODID:-//ChamberMaster//Event Calendar 2.0//EN
METHOD:PUBLISH
X-PUBLISHED-TTL:P3D
REFRESH-INTERVAL:P3D
CALSCALE:GREGORIAN
BEGIN:VEVENT
DTSTART:20191114T233000Z
DTEND:20191115T010000Z
X-MICROSOFT-CDO-ALLDAYEVENT:FALSE
SUMMARY:Hanging @ the Hatch
DESCRIPTION:Hanging @ the Hatch meets every 2nd Thursday for a mastermind session.
X-ALT-DESC;FMTTYPE=text/html:Hanging @ the Hatch meets every 2nd Thursday for a mastermind session.
LOCATION:
UID:e.1304.12815
SEQUENCE:3
DTSTAMP:20260419T142622Z
URL:https://business.eschamber.com/events/details/hanging-the-hatch-11-14-2019-12815
END:VEVENT

END:VCALENDAR
