BEGIN:VCALENDAR
VERSION:2.0
PRODID:-//ChamberMaster//Event Calendar 2.0//EN
METHOD:PUBLISH
X-PUBLISHED-TTL:P3D
REFRESH-INTERVAL:P3D
CALSCALE:GREGORIAN
BEGIN:VEVENT
DTSTART:20191128T233000Z
DTEND:20191129T010000Z
X-MICROSOFT-CDO-ALLDAYEVENT:FALSE
SUMMARY:Hanging @ the Hatch
DESCRIPTION:Hanging @ the Hatch meets every 4th Thursday.  There is a topical speaker and discussion.
X-ALT-DESC;FMTTYPE=text/html:Hanging @ the Hatch meets every 4th Thursday.&nbsp\; There is a topical speaker and discussion.
LOCATION:BBVA Compass\, 36 N. Section Street\, 2nd floor\, Fairhope\, AL (use side entrance)
UID:e.1304.12810
SEQUENCE:3
DTSTAMP:20260419T142622Z
URL:https://business.eschamber.com/events/details/hanging-the-hatch-11-28-2019-12810
END:VEVENT

END:VCALENDAR
