BEGIN:VCALENDAR
VERSION:2.0
PRODID:-//ChamberMaster//Event Calendar 2.0//EN
METHOD:PUBLISH
X-PUBLISHED-TTL:P3D
REFRESH-INTERVAL:P3D
CALSCALE:GREGORIAN
BEGIN:VEVENT
DTSTART:20191019T220000Z
DTEND:20191020T010000Z
X-MICROSOFT-CDO-ALLDAYEVENT:FALSE
SUMMARY:Haunted Hay Ride at Bicentennial Park
DESCRIPTION:Baldwin County Dept. of Archives & History is hosting a Haunted Hay Ride at the Baldwin County Bicentennial Park in Stockton\, AL. Gates open at 5:00 p.m. Rides begin at dark.
X-ALT-DESC;FMTTYPE=text/html:Baldwin County Dept. of Archives &amp\; History is hosting a Haunted Hay Ride at the Baldwin County Bicentennial Park in Stockton\, AL. Gates open at 5:00 p.m. Rides begin at dark.
LOCATION:Baldwin County Bicentennial Park 51233 State Hwy 225 Stockton\, AL 36579
UID:e.1304.12886
SEQUENCE:3
DTSTAMP:20260419T155417Z
URL:https://business.eschamber.com/events/details/haunted-hay-ride-at-bicentennial-park-10-19-2019-12886
END:VEVENT

END:VCALENDAR
