BEGIN:VCALENDAR
VERSION:2.0
PRODID:-//ChamberMaster//Event Calendar 2.0//EN
METHOD:PUBLISH
X-PUBLISHED-TTL:P3D
REFRESH-INTERVAL:P3D
CALSCALE:GREGORIAN
BEGIN:VEVENT
DTSTART:20191030T233000Z
DTEND:20191031T023000Z
X-MICROSOFT-CDO-ALLDAYEVENT:FALSE
SUMMARY:Haunted StoryTelling Tours
DESCRIPTION:Are you afraid of the dark? Let one of Ghost Guides lead you thru the home to hear haunted stories. Are they real? Is the home really haunted? . . . You decide. Tours start every 15 to 20 minutes and lasts appx 1 hour.
X-ALT-DESC;FMTTYPE=text/html:Are you afraid of the dark? Let one of Ghost Guides lead you thru the home to hear haunted stories. Are they real? Is the home really haunted? . . . You decide. Tours start every 15 to 20 minutes and lasts appx 1 hour.
LOCATION:Swift-Coles Historic Home 17424 Swift Coles Lane Bon Secour\, AL 36511
UID:e.1304.13032
SEQUENCE:3
DTSTAMP:20260419T154931Z
URL:https://business.eschamber.com/events/details/haunted-storytelling-tours-13032
END:VEVENT

END:VCALENDAR
