BEGIN:VCALENDAR
VERSION:2.0
PRODID:-//ChamberMaster//Event Calendar 2.0//EN
METHOD:PUBLISH
X-PUBLISHED-TTL:P3D
REFRESH-INTERVAL:P3D
CALSCALE:GREGORIAN
BEGIN:VEVENT
DTSTART:20210504T230000Z
DTEND:20210505T000000Z
X-MICROSOFT-CDO-ALLDAYEVENT:FALSE
SUMMARY:HealthActions Physical Therapy Shoulder Workshop
DESCRIPTION:Come join us for a Rotator Cuff Pain Workshop and learn the single worst position to sleep in that causes big problems in the shoulder and rotator cuff\;  the #1 biggest mistake people suffering with shoulder pain make which can surprisingly lead to rotator cuff surgery\, the common cause of rotator cuff problems and the top 3 exercises for the rotator cuff.
X-ALT-DESC;FMTTYPE=text/html:Come join us for a Rotator Cuff Pain Workshop and learn the single worst position to sleep in that causes big problems in the shoulder and rotator cuff\;&nbsp\; the #1 biggest mistake people suffering with shoulder pain make which can surprisingly lead to rotator cuff surgery\, the common cause of rotator cuff problems and the top 3 exercises for the rotator cuff.
LOCATION:HealthActions Physical Therapy\, 2101 U.S. Hwy 98\, Suite KL\, Daphne\, AL 36526
UID:e.1304.20688
SEQUENCE:3
DTSTAMP:20260423T191505Z
URL:https://business.eschamber.com/events/details/healthactions-physical-therapy-shoulder-workshop-20688
END:VEVENT

END:VCALENDAR
