BEGIN:VCALENDAR
VERSION:2.0
PRODID:-//ChamberMaster//Event Calendar 2.0//EN
METHOD:PUBLISH
X-PUBLISHED-TTL:P3D
REFRESH-INTERVAL:P3D
CALSCALE:GREGORIAN
BEGIN:VEVENT
DTSTART;VALUE=DATE:20250322
DTEND;VALUE=DATE:20250323
TRANSP:TRANSPARENT
X-MICROSOFT-CDO-ALLDAYEVENT:TRUE
SUMMARY:Healthcare Worker Appreciation
DESCRIPTION:In celebration of RMHC' Rubber Ducky Regatta\, Tropic Falls is honoring healthcare heroes with 50% off one (1) Tropic Falls General Admission ticket on Saturday\, March 22\, 2025! Just bring a valid employment ID or proof of employment to the Tropic Falls Admission window and get ready for a day of thrills\, splashes\, and well-deserved fun!\n\n\n\nAnd the fun doesn't stop there! Head to Downtown OWA for the Rubber Ducky Regatta\, where you can enjoy a day of splash-tacular fun featuring activities\, games\, delicious food\, and the main event a rubber duck race across Lake OWA in benefit of the Ronald McDonald House Charities of Mobile! Check out the details here: https://visitowa.com/special-offers/healthcare-worker-special/.\n\n\n\n"Healthcare Worker Appreciation" offer is only valid for March 22\, 2025\, for in-person purchase ONLY. Not available online. Limit one (1) General Admission ticket 50% off for Healthcare Worker. Must present valid employment ID or proof of employment. 50% off ticket must be used day of purchase. Cannot be combined with other special events\, promotions or discounts. No cash value. Non-transferable. Price exclusive of taxes and fees.
X-ALT-DESC;FMTTYPE=text/html:In celebration of RMHC&rsquo\; Rubber Ducky Regatta\, Tropic Falls is honoring healthcare heroes with 50% off one (1) Tropic Falls General Admission ticket on Saturday\, March 22\, 2025! Just bring a valid employment ID or proof of employment to the Tropic Falls Admission window and get ready for a day of thrills\, splashes\, and well-deserved fun!<br />\n<br />\nAnd the fun doesn&rsquo\;t stop there! Head to Downtown OWA for the Rubber Ducky Regatta\, where you can enjoy a day of splash-tacular fun featuring activities\, games\, delicious food\, and the main event&mdash\;a rubber duck race across Lake OWA in benefit of the Ronald McDonald House Charities of Mobile! Check out the details here:&nbsp\;<span style="font-size:13px">https://visitowa.com/special-offers/healthcare-worker-special/.</span><br />\n<br />\n<em>&ldquo\;Healthcare Worker Appreciation&rdquo\; offer is only valid for March 22\, 2025\, for in-person purchase ONLY. Not available online. Limit one (1) General Admission ticket 50% off for Healthcare Worker. Must present valid employment ID or proof of employment. 50% off ticket must be used day of purchase. Cannot be combined with other special events\, promotions or discounts. No cash value. Non-transferable. Price exclusive of taxes and fees. </em>
LOCATION:Tropic Falls
UID:e.1304.37240
SEQUENCE:3
DTSTAMP:20260423T140524Z
URL:https://business.eschamber.com/events/details/healthcare-worker-appreciation-37240
END:VEVENT

END:VCALENDAR
