BEGIN:VCALENDAR
VERSION:2.0
PRODID:-//ChamberMaster//Event Calendar 2.0//EN
METHOD:PUBLISH
X-PUBLISHED-TTL:P3D
REFRESH-INTERVAL:P3D
CALSCALE:GREGORIAN
BEGIN:VEVENT
DTSTART:20191117T010000Z
DTEND:20191117T033000Z
X-MICROSOFT-CDO-ALLDAYEVENT:FALSE
SUMMARY:High School Musical: On Stage
DESCRIPTION:Bayside Academy's Theater Department presents Disney's High School Musical: On Stage\, directed by Tim Kirby. Bayside students Olivia Counselman and Christian Fletcher star as Gabriella Montez and Troy Bolton. Additionally\, Chef Will Hughes will have his food truck on site prior to Saturday's performance. Come enjoy a picnic before the show!
X-ALT-DESC;FMTTYPE=text/html:Bayside Academy&#39\;s Theater Department presents Disney&#39\;s High School Musical: On Stage\, directed by Tim Kirby. Bayside students Olivia Counselman and Christian Fletcher star as Gabriella Montez and Troy Bolton. Additionally\, Chef Will Hughes will have his food truck on site prior to Saturday&#39\;s performance. Come enjoy a picnic before the show!
LOCATION:Bayside Academy Pilot Center Theatre Daphne\, AL
UID:e.1304.13105
SEQUENCE:3
DTSTAMP:20260419T142734Z
URL:https://business.eschamber.com/events/details/high-school-musical-on-stage-11-16-2019-13105
END:VEVENT

END:VCALENDAR
