BEGIN:VCALENDAR
VERSION:2.0
PRODID:-//ChamberMaster//Event Calendar 2.0//EN
METHOD:PUBLISH
X-PUBLISHED-TTL:P3D
REFRESH-INTERVAL:P3D
CALSCALE:GREGORIAN
BEGIN:VEVENT
DTSTART:20191117T200000Z
DTEND:20191117T223000Z
X-MICROSOFT-CDO-ALLDAYEVENT:FALSE
SUMMARY:High School Musical: On Stage
DESCRIPTION:Bayside Academy's Theater Department presents Disney's High School Musical: On Stage\, directed by Tim Kirby. Bayside students Olivia Counselman and Christian Fletcher star as Gabriella Montez and Troy Bolton.
X-ALT-DESC;FMTTYPE=text/html:Bayside Academy&#39\;s Theater Department presents Disney&#39\;s High School Musical: On Stage\, directed by Tim Kirby. Bayside students Olivia Counselman and Christian Fletcher star as Gabriella Montez and Troy Bolton.
LOCATION:Bayside Academy Pilot Center Theatre Daphne\, AL
UID:e.1304.13106
SEQUENCE:3
DTSTAMP:20260419T142739Z
URL:https://business.eschamber.com/events/details/high-school-musical-on-stage-11-17-2019-13106
END:VEVENT

END:VCALENDAR
