BEGIN:VCALENDAR
VERSION:2.0
PRODID:-//ChamberMaster//Event Calendar 2.0//EN
METHOD:PUBLISH
X-PUBLISHED-TTL:P3D
REFRESH-INTERVAL:P3D
CALSCALE:GREGORIAN
BEGIN:VEVENT
DTSTART;VALUE=DATE:20211126
DTEND;VALUE=DATE:20211205
TRANSP:TRANSPARENT
X-MICROSOFT-CDO-ALLDAYEVENT:TRUE
SUMMARY:Holiday Season Silent Auction
DESCRIPTION:Virtual fundraiser benefitting Children of the World! Bidding opens on November 26 and goes through December 4. Unique Ready-to-give gifts\, certificates for travel\, dining\, shopping & more\, exclusive Gulf Coast art\, products & experiences\, and signed sports memorabilia!
X-ALT-DESC;FMTTYPE=text/html:Virtual fundraiser benefitting Children of the World! Bidding opens on November 26 and goes through December 4. Unique Ready-to-give gifts\, certificates for travel\, dining\, shopping &amp\; more\, exclusive Gulf Coast art\, products &amp\; experiences\, and signed sports memorabilia!
LOCATION:Virtual - visit childrenoftheworld.com to bid
UID:e.1304.22862
SEQUENCE:3
DTSTAMP:20260419T133233Z
URL:https://business.eschamber.com/events/details/holiday-season-silent-auction-22862
END:VEVENT

END:VCALENDAR
