BEGIN:VCALENDAR
VERSION:2.0
PRODID:-//ChamberMaster//Event Calendar 2.0//EN
METHOD:PUBLISH
X-PUBLISHED-TTL:P3D
REFRESH-INTERVAL:P3D
CALSCALE:GREGORIAN
BEGIN:VEVENT
DTSTART:20240625T183000Z
DTEND:20240625T193000Z
X-MICROSOFT-CDO-ALLDAYEVENT:FALSE
SUMMARY:How to Talk So Your Customers Will Listen
DESCRIPTION:Attention ALL business owners! Are you wasting money on marketing and unintentionally confusing your customers? - A website that's not converting - Rattling a list when someone asks "What do you do?" - Losing business to competitors When your customers aren't listening\, you're losing sales. Capture your customer's attention and compel them to buy. That's effective marketing and your business deserves it!
X-ALT-DESC;FMTTYPE=text/html:Attention ALL business owners! Are you wasting money on marketing and unintentionally confusing your customers? - A website that&#39\;s not converting - Rattling a list when someone asks &quot\;What do you do?&quot\; - Losing business to competitors When your customers aren&#39\;t listening\, you&#39\;re losing sales. Capture your customer&#39\;s attention and compel them to buy. That&#39\;s effective marketing and your business deserves it!
LOCATION:Virtual Workshop
UID:e.1304.32067
SEQUENCE:3
DTSTAMP:20260419T210206Z
URL:https://business.eschamber.com/events/details/how-to-talk-so-your-customers-will-listen-32067
END:VEVENT

END:VCALENDAR
