BEGIN:VCALENDAR
VERSION:2.0
PRODID:-//ChamberMaster//Event Calendar 2.0//EN
METHOD:PUBLISH
X-PUBLISHED-TTL:P3D
REFRESH-INTERVAL:P3D
CALSCALE:GREGORIAN
BEGIN:VEVENT
DTSTART:20230901T003000Z
DTEND:20230901T013000Z
X-MICROSOFT-CDO-ALLDAYEVENT:FALSE
SUMMARY:Hypnaughty
DESCRIPTION:Join the fun and unleash your hidden abilities with Thom Kaz's Hypnaughy show. This fast-paced comedy hypnosis experience will have you on the stage laughing and perhaps hypnotized at the same time. World-renowned hypnotist\, Thom Kaz\, brings his high-octane comedy hypnosis show to OWA Theater select dates this summer. Guests of the show are invited to join the fun and unleash their hidden abilities in this one-of-a-kind adult hypnosis show.\n\n\nJune 22 | July 6 & 20 | August 3 & 17\, 31\n\n\n \n\nDon't wait\, grab your tickets today for a totally hypnotic evening this summer here\, at: Hypnaughty   OWA (visitowa.com)\n\nThis show is for ages 21+ only.
X-ALT-DESC;FMTTYPE=text/html:<p>Join the fun and unleash your hidden abilities with Thom Kaz&rsquo\;s Hypnaughy show. This fast-paced comedy hypnosis experience will have you on the stage laughing and perhaps hypnotized at the same time. World-renowned hypnotist\, Thom Kaz\, brings his high-octane comedy hypnosis show to OWA Theater select dates this summer. Guests of the show are invited to join the fun and unleash their hidden abilities in this one-of-a-kind adult hypnosis show.</p>\n\n<div>\n<p>June 22 | July 6 &amp\; 20 | August 3 &amp\; 17\, 31</p>\n</div>\n\n<div>&nbsp\;</div>\n\n<p>Don&rsquo\;t wait\, grab your tickets today for a totally hypnotic evening this summer here\, at:&nbsp\;<a href="https://visitowa.com/hypnaughty/">Hypnaughty &ndash\; OWA (visitowa.com)</a><br />\nThis show is for ages 21+ only.</p>\n
LOCATION:OWA Theater 205-A N. OWA Blvd Foley\, AL 36535
UID:e.1304.27589
SEQUENCE:3
DTSTAMP:20260420T015759Z
URL:https://business.eschamber.com/events/details/hypnaughty-27589
END:VEVENT

END:VCALENDAR
