BEGIN:VCALENDAR
VERSION:2.0
PRODID:-//ChamberMaster//Event Calendar 2.0//EN
METHOD:PUBLISH
X-PUBLISHED-TTL:P3D
REFRESH-INTERVAL:P3D
CALSCALE:GREGORIAN
BEGIN:VEVENT
DTSTART:20191120T000000Z
DTEND:20191120T023000Z
X-MICROSOFT-CDO-ALLDAYEVENT:FALSE
SUMMARY:Inaugural No Child Left Behind Toy Drive
DESCRIPTION:The Inaugural No Child Left Behind Toy Drive honoring Doug Mitchell will be held at District Hall. Entry fee is a donation or an unwrapped toy appropriate for 4-12 years old boys or girls. The toy drive benefits Care House of Baldwin County.
X-ALT-DESC;FMTTYPE=text/html:The Inaugural No Child Left Behind Toy Drive honoring Doug Mitchell will be held at District Hall. Entry fee is a donation or an unwrapped toy appropriate for 4-12 years old boys or girls. The toy drive benefits Care House of Baldwin County.
LOCATION:District Hall\, 761 Nichols Avenue\, Fairhope\, AL
UID:e.1304.13130
SEQUENCE:3
DTSTAMP:20260419T143029Z
URL:https://business.eschamber.com/events/details/inaugural-no-child-left-behind-toy-drive-13130
END:VEVENT

END:VCALENDAR
