BEGIN:VCALENDAR
VERSION:2.0
PRODID:-//ChamberMaster//Event Calendar 2.0//EN
METHOD:PUBLISH
X-PUBLISHED-TTL:P3D
REFRESH-INTERVAL:P3D
CALSCALE:GREGORIAN
BEGIN:VEVENT
DTSTART:20220828T003000Z
DTEND:20220828T021500Z
X-MICROSOFT-CDO-ALLDAYEVENT:FALSE
SUMMARY:Island Movie Night ft. Ratatouille
DESCRIPTION:Join us under the stars for a free movie night on the Island Amphitheater in Downtown OWA. Saturday\, August 20\, we'll be showing Ratatouille. Rated G for appropriate for people of all ages\, we hope you can come out to enjoy this complimentary\, outdoor movie night. Showtime is at 7:30pm.\n\n\n\n\n\n\n\n\n\n\n\nPlan to arrive early for a themed scavenger hunt throughout Downtown OWA starting at 5pm! Bring a chair\, blanket or towel and enjoy an evening outdoors on the lawn. Relax together as a family and let OWA provide the entertainment free of charge. \n\nHungry? Pick up a meal to-go from one of our amazing eateries in Downtown OWA.
X-ALT-DESC;FMTTYPE=text/html:<div style="margin-left:auto\; margin-right:auto">\n<div>\n<div>\n<div>\n<div>\n<p>Join us under the stars for a free movie night on the Island Amphitheater in Downtown OWA. Saturday\, August 20\, we&rsquo\;ll be showing&nbsp\;<em>Ratatouille</em>. Rated G for appropriate for people of all ages\, we hope you can come out to enjoy this complimentary\, outdoor movie night. Showtime is at 7:30pm.</p>\n</div>\n</div>\n</div>\n</div>\n</div>\n\n<div style="margin-left:auto\; margin-right:auto">\n<div>\n<div>\n<div>\n<div>\n<p>Plan to arrive early for a themed scavenger hunt throughout Downtown OWA starting at 5pm! Bring a chair\, blanket or towel and enjoy an evening outdoors on the lawn. Relax together as a family and let OWA provide the entertainment free of charge.&nbsp\;</p>\n\n<p>Hungry? Pick up a meal to-go from one of our amazing eateries in Downtown OWA.</p>\n</div>\n</div>\n</div>\n</div>\n</div>\n
LOCATION:101-N S OWA Blvd\, Foley\, AL 36535
UID:e.1304.25835
SEQUENCE:3
DTSTAMP:20260419T234813Z
URL:https://business.eschamber.com/events/details/island-movie-night-ft-ratatouille-25835
END:VEVENT

END:VCALENDAR
