BEGIN:VCALENDAR
VERSION:2.0
PRODID:-//ChamberMaster//Event Calendar 2.0//EN
METHOD:PUBLISH
X-PUBLISHED-TTL:P3D
REFRESH-INTERVAL:P3D
CALSCALE:GREGORIAN
BEGIN:VEVENT
DTSTART:20201206T010000Z
DTEND:20201206T021500Z
X-MICROSOFT-CDO-ALLDAYEVENT:FALSE
SUMMARY:Island Movie Nights ft. Night at the Museum
DESCRIPTION:Join us for OWA Island Movie Nights!\n\nSaturday\, Dec. 5   Island Amphitheater\n\nShowtime: 7pm\n\nSave the date as Island Movie Nights return to OWA! Evoke a sense of nostalgia at this free\, family-friendly series of events featuring special activities for the whole family. Join us under the stars at on the Island Amphitheater in Downtown OWA.\n\nSaturday\, December 5\, we'll be showing Night at the Museum. Rated PG for parental guidance suggested\, we hope you can come out to enjoy this complimentary\, outdoor movie night. Showtime is at 7pm.\n\nBring a chair\, blanket or towel and enjoy an evening outdoors on the lawn. Relax together as a family and let OWA provide the entertainment free of charge. Popcorn\, snacks and drinks are available for purchase at the Boathouse\, or you can pick up a meal to-go from one of our amazing eateries in Downtown OWA.
X-ALT-DESC;FMTTYPE=text/html:<h1 style="text-align:center">Join us for OWA Island Movie Nights!</h1>\n\n<h4 style="text-align:center"><span style="color:rgb(242\, 121\, 0)">Saturday\, Dec. 5 &bull\; Island Amphitheater<br />\nShowtime: 7pm</span></h4>\n\n<p style="text-align:center"><strong>Save the date as Island Movie Nights return to OWA! Evoke a sense of nostalgia at this free\, family-friendly series of events featuring special activities for the whole family. Join us under the stars at on the Island Amphitheater in Downtown OWA.</strong></p>\n\n<p style="text-align:center"><strong>Saturday\, December 5\, we&rsquo\;ll be showing&nbsp\;<em>Night at the Museum</em>. Rated PG for parental guidance suggested\, we hope you can come out to enjoy this complimentary\, outdoor movie night. Showtime is at 7pm.</strong></p>\n\n<p style="text-align:center"><strong>Bring a chair\, blanket or towel and enjoy an evening outdoors on the lawn. Relax together as a family and let OWA provide the entertainment free of charge.&nbsp\;Popcorn\, snacks and drinks are available for purchase at the Boathouse\, or you can pick up a meal to-go from one of our amazing eateries in Downtown OWA.</strong></p>\n\n<p>&nbsp\;</p>\n
LOCATION:
UID:e.1304.14921
SEQUENCE:3
DTSTAMP:20260424T015153Z
URL:https://business.eschamber.com/events/details/island-movie-nights-ft-night-at-the-museum-14921
END:VEVENT

END:VCALENDAR
