BEGIN:VCALENDAR
VERSION:2.0
PRODID:-//ChamberMaster//Event Calendar 2.0//EN
METHOD:PUBLISH
X-PUBLISHED-TTL:P3D
REFRESH-INTERVAL:P3D
CALSCALE:GREGORIAN
BEGIN:VEVENT
DTSTART:20201213T000000Z
DTEND:20201213T031000Z
X-MICROSOFT-CDO-ALLDAYEVENT:FALSE
SUMMARY:Island Movie Nights ft. Star Wars: A New Hope
DESCRIPTION:Save the date as Island Movie Nights return to OWA!\n\nSaturday\, Dec. 12   Island Amphitheater\n\nCharacter Appearances 6pm   Showtime: 7pm \n\nSave the date as Island Movie Nights return to OWA! Evoke a sense of nostalgia at this free\, family-friendly series of events featuring special activities for the whole family. Join us under the stars weekly on the Island Amphitheater in Downtown OWA.\n\nSaturday\, Dec. 12\, we'll be showing Star Wars: A New Hope. Rated PG for parental guidance suggested\, we hope you can come out to enjoy this complimentary\, outdoor movie night. Get ready to go on an epic space adventure with Luke Skywalker\, Han Solo\, and Princess Leia!\n\nPlus arrive early and enjoy an evening with your favorite movie characters making appearances starting at 6:00pm. Create memories and enjoy all the photo opportunities prior to showtime.\n\nThe film will begin at 7:00pm. This evening is not to be missed\, so come out and enjoy some retro family fun.\n\nBring a chair\, blanket or towel and enjoy an evening outdoors on the lawn. Relax together as a family and let OWA provide the entertainment free of charge. Popcorn\, snacks and drinks are available for purchase at the Boathouse\, or you can pick up a meal to-go from one of our amazing eateries in Downtown OWA.\n\nCreate timeless memories with your family and enjoy an evening of cinema. Check back to see what's showing next!
X-ALT-DESC;FMTTYPE=text/html:<h2 style="text-align:center">Save the date as Island Movie Nights return to OWA!</h2>\n\n<h4 style="text-align:center"><span style="color:rgb(242\, 121\, 0)">Saturday\, Dec. 12 &bull\; Island Amphitheater</span><br />\n<span style="color:rgb(242\, 121\, 0)">Character Appearances 6pm &bull\;&nbsp\;</span><span style="color:rgb(242\, 121\, 0)">Showtime: 7pm&nbsp\;</span></h4>\n\n<p style="text-align:center"><strong>Save the date as Island Movie Nights return to OWA! Evoke a sense of nostalgia at this free\, family-friendly series of events featuring special activities for the whole family. Join us under the stars weekly on the Island Amphitheater in Downtown OWA.</strong></p>\n\n<p style="text-align:center"><strong>Saturday\, Dec. 12\, we&rsquo\;ll be showing&nbsp\;<em>Star Wars: A New Hope</em>. Rated PG for parental guidance suggested\, we hope you can come out to enjoy this complimentary\, outdoor movie night. Get ready to go on an epic space adventure with Luke Skywalker\, Han Solo\, and Princess Leia!</strong></p>\n\n<p style="text-align:center"><strong>Plus arrive early and enjoy an evening with your favorite movie characters making appearances starting at 6:00pm. Create memories and enjoy all the photo opportunities prior to showtime.</strong></p>\n\n<p style="text-align:center"><strong>The film will begin at 7:00pm. This evening is not to be missed\, so come out and enjoy some retro family fun.</strong></p>\n\n<p style="text-align:center"><strong>Bring a chair\, blanket or towel and enjoy an evening outdoors on the lawn. Relax together as a family and let OWA provide the entertainment free of charge.&nbsp\;Popcorn\, snacks and drinks are available for purchase at the Boathouse\, or you can pick up a meal to-go from one of our amazing eateries in Downtown OWA.</strong></p>\n\n<p style="text-align:center"><strong>Create timeless memories with your family and enjoy an evening of cinema. Check back to see what&rsquo\;s showing next!</strong></p>\n
LOCATION:
UID:e.1304.14920
SEQUENCE:3
DTSTAMP:20260424T032333Z
URL:https://business.eschamber.com/events/details/island-movie-nights-ft-star-wars-a-new-hope-14920
END:VEVENT

END:VCALENDAR
