BEGIN:VCALENDAR
VERSION:2.0
PRODID:-//ChamberMaster//Event Calendar 2.0//EN
METHOD:PUBLISH
X-PUBLISHED-TTL:P3D
REFRESH-INTERVAL:P3D
CALSCALE:GREGORIAN
BEGIN:VEVENT
DTSTART;VALUE=DATE:20191021
DTEND;VALUE=DATE:20191031
TRANSP:TRANSPARENT
X-MICROSOFT-CDO-ALLDAYEVENT:TRUE
SUMMARY:JCMF Poinsettia Fundraiser
DESCRIPTION:Jennifer Moore Foundation is hosting its JCMF Poinsettia Fundraiser to support peer helper programs in Baldwin County. Pre-Sale order deadline is October 30\, 2019. Plants will be wrapped in a foil pot and are grown by a local nursery! Expect your poinsettias December 4th-5th! 6" pot - one plant $12.00\; 8" pot - two plants $18.00\; 10" pot - 3 plants $25 Orders may also be placed at https://jennifermoorefoundation.com/jcmf-poinsettia-fundraiser
X-ALT-DESC;FMTTYPE=text/html:Jennifer Moore Foundation is hosting its JCMF Poinsettia Fundraiser to support peer helper programs in Baldwin County. Pre-Sale order deadline is October 30\, 2019. Plants will be wrapped in a foil pot and are grown by a local nursery! Expect your poinsettias December 4th-5th! 6&quot\; pot - one plant $12.00\; 8&quot\; pot - two plants $18.00\; 10&quot\; pot - 3 plants $25 Orders may also be placed at https://jennifermoorefoundation.com/jcmf-poinsettia-fundraiser
LOCATION:
UID:e.1304.13056
SEQUENCE:3
DTSTAMP:20260419T155113Z
URL:https://business.eschamber.com/events/details/jcmf-poinsettia-fundraiser-13056
END:VEVENT

END:VCALENDAR
