BEGIN:VCALENDAR
VERSION:2.0
PRODID:-//ChamberMaster//Event Calendar 2.0//EN
METHOD:PUBLISH
X-PUBLISHED-TTL:P3D
REFRESH-INTERVAL:P3D
CALSCALE:GREGORIAN
BEGIN:VEVENT
DTSTART:20210329T150000Z
DTEND:20210329T170000Z
X-MICROSOFT-CDO-ALLDAYEVENT:FALSE
SUMMARY:Job Fair
DESCRIPTION:Job Fair at Foley Career Center!\n\n\n\nCome Join Us!
X-ALT-DESC;FMTTYPE=text/html:Job Fair at Foley Career Center!<br />\n<br />\nCome Join Us!
LOCATION:Foley\, Career Center 200 Michigan Avenue Foley\, AL
UID:e.1304.20568
SEQUENCE:3
DTSTAMP:20260423T222121Z
URL:https://business.eschamber.com/events/details/job-fair-03-29-2021-20568
END:VEVENT

END:VCALENDAR
