BEGIN:VCALENDAR
VERSION:2.0
PRODID:-//ChamberMaster//Event Calendar 2.0//EN
METHOD:PUBLISH
X-PUBLISHED-TTL:P3D
REFRESH-INTERVAL:P3D
CALSCALE:GREGORIAN
BEGIN:VEVENT
DTSTART:20201118T170000Z
DTEND:20201118T200000Z
X-MICROSOFT-CDO-ALLDAYEVENT:FALSE
SUMMARY:Job Fair
DESCRIPTION:Job Fair hosted by Long's Human Resource Services. Bring your resume and a mask.
X-ALT-DESC;FMTTYPE=text/html:Job Fair hosted by Long&#39\;s Human Resource Services. Bring your resume and a mask.
LOCATION:Tractor Supply Company\, corner of US-98 and Johnson Road\, Daphne\, AL
UID:e.1304.14905
SEQUENCE:3
DTSTAMP:20260424T031925Z
URL:https://business.eschamber.com/events/details/job-fair-11-18-2020-14905
END:VEVENT

END:VCALENDAR
