BEGIN:VCALENDAR
VERSION:2.0
PRODID:-//ChamberMaster//Event Calendar 2.0//EN
METHOD:PUBLISH
X-PUBLISHED-TTL:P3D
REFRESH-INTERVAL:P3D
CALSCALE:GREGORIAN
BEGIN:VEVENT
DTSTART:20201021T140000Z
DTEND:20201021T180000Z
X-MICROSOFT-CDO-ALLDAYEVENT:FALSE
SUMMARY:Job Fair
DESCRIPTION:Long's Human Resource Services is happy to announce that it will be hosting a job fair at Ascend Performance Materials in Foley. We will be talking to anyone interested in becoming a team member for this great company. Entry level production positions starts at $15/hr. Bring your resume and a mask.
X-ALT-DESC;FMTTYPE=text/html:Long&#39\;s Human Resource Services is happy to announce that it will be hosting a job fair at Ascend Performance Materials in Foley. We will be talking to anyone interested in becoming a team member for this great company. Entry level production positions starts at $15/hr. Bring your resume and a mask.
LOCATION:Ascend Performance Materials\, 518 S. Bay St\, Foley\, AL
UID:e.1304.14852
SEQUENCE:3
DTSTAMP:20260424T054245Z
URL:https://business.eschamber.com/events/details/job-fair-14852
END:VEVENT

END:VCALENDAR
