BEGIN:VCALENDAR
VERSION:2.0
PRODID:-//ChamberMaster//Event Calendar 2.0//EN
METHOD:PUBLISH
X-PUBLISHED-TTL:P3D
REFRESH-INTERVAL:P3D
CALSCALE:GREGORIAN
BEGIN:VEVENT
DTSTART:20210702T160000Z
DTEND:20210703T030000Z
X-MICROSOFT-CDO-ALLDAYEVENT:FALSE
SUMMARY:July 4th Weekend at OWA
DESCRIPTION:Whether you want to spend a day\, or spend a long weekend with us\, we've got you covered this 4th of July. Join us for our inaugural patriotic walking parade led by a 70-piece marching band and our biggest\, best firework show yet!\n\nWe'll be celebrating Independence Day all weekend long at OWA with family-friendly activities and live music from Southern Approach\, the Troy Laz Band and more. This is a free event that is open to the public.\n\nCelebrate with a fun day in the streets of Downtown OWA and grab a delicious lunch. Want a little more thrill in your Independence Day adventure? Hop inside The Park at OWA and scream your heart out on Rollin' Thunder\, or take advantage of our Non-Rider Ticket and simply enjoy the view!
X-ALT-DESC;FMTTYPE=text/html:<p>Whether you want to spend a day\, or spend a long weekend with us\, we&rsquo\;ve got you covered this 4<span style="font-size:12px">th</span>&nbsp\;of July. Join us for our inaugural patriotic walking parade led by a 70-piece marching band and our biggest\, best firework show yet!</p>\n\n<p>We&rsquo\;ll be celebrating Independence Day all weekend long at OWA with family-friendly activities and live music from Southern Approach\, the Troy Laz Band and more. This is a free event that is open to the public.</p>\n\n<p>Celebrate with a fun day in the streets of Downtown OWA and grab a delicious lunch. Want a little more thrill in your Independence Day adventure? Hop inside&nbsp\;<a href="https://visitowa.com/explore/the-park-at-owa/" style="box-sizing: border-box\; background-color: transparent\; color: inherit\; max-width: unset\; cursor: pointer\;">The Park at OWA</a>&nbsp\;and scream your heart out on&nbsp\;<a href="https://visitowa.com/explore/the-park/rollin-thunder/" style="box-sizing: border-box\; background-color: transparent\; color: inherit\; max-width: unset\; cursor: pointer\;">Rollin&rsquo\; Thunder</a>\, or take advantage of our Non-Rider Ticket and simply enjoy the view!</p>\n
LOCATION:Downtown OWA 100 N OWA Blvd Foley\, Alabama\, 36535
UID:e.1304.22043
SEQUENCE:3
DTSTAMP:20260420T114555Z
URL:https://business.eschamber.com/events/details/july-4th-weekend-at-owa-22043
END:VEVENT

END:VCALENDAR
