BEGIN:VCALENDAR
VERSION:2.0
PRODID:-//ChamberMaster//Event Calendar 2.0//EN
METHOD:PUBLISH
X-PUBLISHED-TTL:P3D
REFRESH-INTERVAL:P3D
CALSCALE:GREGORIAN
BEGIN:VEVENT
DTSTART:20191115T150000Z
DTEND:20191117T230000Z
X-MICROSOFT-CDO-ALLDAYEVENT:FALSE
SUMMARY:Junior League of Mobile's Christmas Jubilee
DESCRIPTION:The Junior League of Mobile's Christmas Jubilee is a holiday shopping market and annual fundraiser. In its 35th year\, Christmas Jubilee features over 100 merchants from around the country\, photos with Santa\, live entertainment\, a children's activity area\, a food court\, an online silent auction\, a cash bar\, and more! Complete all of your holiday shopping in one place and support the Mobile and Baldwin County communities! To purchase tickets or for more information\, please visit juniorleaguemobile.org/christmasjubilee.
X-ALT-DESC;FMTTYPE=text/html:The Junior League of Mobile&rsquo\;s Christmas Jubilee is a holiday shopping market and annual fundraiser. In its 35th year\, Christmas Jubilee features over 100 merchants from around the country\, photos with Santa\, live entertainment\, a children&#39\;s activity area\, a food court\, an online silent auction\, a cash bar\, and more! Complete all of your holiday shopping in one place and support the Mobile and Baldwin County communities! To purchase tickets or for more information\, please visit juniorleaguemobile.org/christmasjubilee.
LOCATION:Mobile Convention Center
UID:e.1304.12947
SEQUENCE:3
DTSTAMP:20260419T160341Z
URL:https://business.eschamber.com/events/details/junior-league-of-mobile-s-christmas-jubilee-12947
END:VEVENT

END:VCALENDAR
