BEGIN:VCALENDAR
VERSION:2.0
PRODID:-//ChamberMaster//Event Calendar 2.0//EN
METHOD:PUBLISH
X-PUBLISHED-TTL:P3D
REFRESH-INTERVAL:P3D
CALSCALE:GREGORIAN
BEGIN:VEVENT
DTSTART:20190420T000000Z
DTEND:20190420T020000Z
X-MICROSOFT-CDO-ALLDAYEVENT:FALSE
SUMMARY:Katya Grineva in Concert
DESCRIPTION:Katya Grineva in Concert! "Only piano soloist to play at Carnegie Hall 17 times".
X-ALT-DESC;FMTTYPE=text/html:Katya Grineva in Concert! &quot\;Only piano soloist to play at Carnegie Hall 17 times&quot\;.
LOCATION:Fairhope Utitarian Fellowship 1150 Fairhope Avenue Fairhope\, AL
UID:e.1304.12169
SEQUENCE:3
DTSTAMP:20260419T221849Z
URL:https://business.eschamber.com/events/details/katya-grineva-in-concert-12169
END:VEVENT

END:VCALENDAR
