BEGIN:VCALENDAR
VERSION:2.0
PRODID:-//ChamberMaster//Event Calendar 2.0//EN
METHOD:PUBLISH
X-PUBLISHED-TTL:P3D
REFRESH-INTERVAL:P3D
CALSCALE:GREGORIAN
BEGIN:VEVENT
DTSTART;VALUE=DATE:20201027
DTEND;VALUE=DATE:20201028
TRANSP:TRANSPARENT
X-MICROSOFT-CDO-ALLDAYEVENT:TRUE
SUMMARY:Kids Eat Free
DESCRIPTION:Kids eat for free (and play for free\, too!) Tuesdays after 5pm at OWA! Want to learn more about these family-friendly deals? Check out your options and view full offer details here: www.visitowa.com/kidseatfree/ Participating Downtown OWA locations include: - Lucy's Retired Surfer Bar & Restaurant - Crazy Donuts - Groovy Goat - Trattoria Pizza & Italian - Auntie Anne's - The Arcade at OWA - The Brandon Styles Variety Show - Clash eSports Center Full details on offers and qualifying purchases can be found at www.visitowa.com/kidseatfree
X-ALT-DESC;FMTTYPE=text/html:<span style="background-color:rgb(255\, 255\, 255)\; color:rgb(44\, 62\, 80)\; font-family:idealsans-book\,avenir\,helvetica\,arial\,sans-serif\; font-size:17.6px">Kids eat for free (and play for free\, too!) Tuesdays after 5pm at OWA! Want to learn more about these family-friendly deals? Check out your options and view full offer details here: www.visitowa.com/kidseatfree/ Participating Downtown OWA locations include: - Lucy&rsquo\;s Retired Surfer Bar &amp\; Restaurant - Crazy Donuts - Groovy Goat - Trattoria Pizza &amp\; Italian - Auntie Anne&rsquo\;s - The Arcade at OWA - The Brandon Styles Variety Show - Clash eSports Center Full details on offers and qualifying purchases can be found at www.visitowa.com/kidseatfree </span>
LOCATION:1501 S. OWA Blvd. Foley\, AL 36535
UID:e.1304.14297
SEQUENCE:3
DTSTAMP:20260424T044046Z
URL:https://business.eschamber.com/events/details/kids-eat-free-10-27-2020-14297
END:VEVENT

END:VCALENDAR
