BEGIN:VCALENDAR
VERSION:2.0
PRODID:-//ChamberMaster//Event Calendar 2.0//EN
METHOD:PUBLISH
X-PUBLISHED-TTL:P3D
REFRESH-INTERVAL:P3D
CALSCALE:GREGORIAN
BEGIN:VEVENT
DTSTART:20230914T200000Z
DTEND:20230915T000000Z
X-MICROSOFT-CDO-ALLDAYEVENT:FALSE
SUMMARY:Kiwanis 3rd Annual 9-hole Golf Tournament
DESCRIPTION:The Daphne Spanish Fort Kiwanis Club is holding their 3rd Annual 9-Hole 2 Person Scramble Golf Tournament at the Lake Forest Golf Club. Send registration and checks to P.O. Box 2001\, Daphne\, AL 36526.
X-ALT-DESC;FMTTYPE=text/html:The Daphne Spanish Fort Kiwanis Club is holding their 3rd Annual 9-Hole 2 Person Scramble Golf Tournament at the Lake Forest Golf Club. Send registration and checks to P.O. Box 2001\, Daphne\, AL 36526.
LOCATION:Lake Forest Golf Club\, 1 Golf Terrace\, Daphne\, AL 36526
UID:e.1304.27975
SEQUENCE:3
DTSTAMP:20260420T020202Z
URL:https://business.eschamber.com/events/details/kiwanis-3rd-annual-9-hole-golf-tournament-27975
END:VEVENT

END:VCALENDAR
