BEGIN:VCALENDAR
VERSION:2.0
PRODID:-//ChamberMaster//Event Calendar 2.0//EN
METHOD:PUBLISH
X-PUBLISHED-TTL:P3D
REFRESH-INTERVAL:P3D
CALSCALE:GREGORIAN
BEGIN:VEVENT
DTSTART:20220904T015000Z
DTEND:20220904T020000Z
X-MICROSOFT-CDO-ALLDAYEVENT:FALSE
SUMMARY:Labor Day Fireworks
DESCRIPTION:Wrap up your summer and celebrate Labor Day Weekend with an epic firework show at OWA Parks & Resort on Saturday\, September 3. The fireworks go off at 8:50pm sharp. This patriotic show\, timed perfectly with music\, can be seen throughout the entire property.\n\nSome of our favorite viewing spots in Downtown include the many bridges over Lake OWA\, the sandy beaches beside Rum Island and Auntie Anne's\, and beside the OWA Theater. For a prime spot in the theme park\, check out the views from behind the Rollin' Thunder and our large fountain\, on the benches at the Midway Games\, or over by the Sky Balloons and the Magic Fountain!
X-ALT-DESC;FMTTYPE=text/html:<p>Wrap up your summer and celebrate Labor Day Weekend with an epic firework show at OWA Parks &amp\; Resort on Saturday\, September 3. The fireworks go off at 8:50pm sharp. This patriotic show\, timed perfectly with music\, can be seen throughout the entire property.</p>\n\n<p>Some of our favorite viewing spots in Downtown include the many bridges over Lake OWA\, the sandy beaches beside Rum Island and Auntie Anne&rsquo\;s\, and beside the OWA Theater. For a prime spot in the theme park\, check out the views from behind the Rollin&rsquo\; Thunder and our large fountain\, on the benches at the Midway Games\, or over by the Sky Balloons and the Magic Fountain!</p>\n
LOCATION:101-N S OWA Blvd\, Foley\, AL 36535
UID:e.1304.25847
SEQUENCE:3
DTSTAMP:20260423T191341Z
URL:https://business.eschamber.com/events/details/labor-day-fireworks-25847
END:VEVENT

END:VCALENDAR
