BEGIN:VCALENDAR
VERSION:2.0
PRODID:-//ChamberMaster//Event Calendar 2.0//EN
METHOD:PUBLISH
X-PUBLISHED-TTL:P3D
REFRESH-INTERVAL:P3D
CALSCALE:GREGORIAN
BEGIN:VEVENT
DTSTART:20210721T230000Z
DTEND:20210722T010000Z
X-MICROSOFT-CDO-ALLDAYEVENT:FALSE
SUMMARY:Ladies Night: Tasting at The Happy Olive!
DESCRIPTION:Ladies Night: Tasting at The Happy Olive!
X-ALT-DESC;FMTTYPE=text/html:Ladies Night: Tasting at The Happy Olive!&nbsp\;
LOCATION:314 De La Mare Ave\, Fairhope\, AL 36532
UID:e.1304.22036
SEQUENCE:3
DTSTAMP:20260420T114711Z
URL:https://business.eschamber.com/events/details/ladies-night-tasting-at-the-happy-olive-22036
END:VEVENT

END:VCALENDAR
