BEGIN:VCALENDAR
VERSION:2.0
PRODID:-//ChamberMaster//Event Calendar 2.0//EN
METHOD:PUBLISH
X-PUBLISHED-TTL:P3D
REFRESH-INTERVAL:P3D
CALSCALE:GREGORIAN
BEGIN:VEVENT
DTSTART:20240222T230000Z
DTEND:20240223T010000Z
X-MICROSOFT-CDO-ALLDAYEVENT:FALSE
SUMMARY:Ladies Night: Women and Safety in the Workplace
DESCRIPTION:Join us for a fun and educational Girls Night Out: Women & Safety in the Workplace.
X-ALT-DESC;FMTTYPE=text/html:Join us for a fun and educational Girls Night Out: Women &amp\; Safety in the Workplace.&nbsp\;
LOCATION:James P. Nix Center (Card Room) 1 Bayou Drive\, Fairhope\, AL
UID:e.1304.29969
SEQUENCE:3
DTSTAMP:20260421T002557Z
URL:https://business.eschamber.com/events/details/ladies-night-women-and-safety-in-the-workplace-29969
END:VEVENT

END:VCALENDAR
