BEGIN:VCALENDAR
VERSION:2.0
PRODID:-//ChamberMaster//Event Calendar 2.0//EN
METHOD:PUBLISH
X-PUBLISHED-TTL:P3D
REFRESH-INTERVAL:P3D
CALSCALE:GREGORIAN
BEGIN:VEVENT
DTSTART:20210704T170000Z
DTEND:20210704T210000Z
X-MICROSOFT-CDO-ALLDAYEVENT:FALSE
SUMMARY:Lake Forest Yacht Club Public Grand Opening
DESCRIPTION:The Lake Forest Yacht Club Public Grand Opening is July 4th from Noon to 4.00 pm.  We are very excited to have local band favorite Sugarcane Jane playing on the deck.  The radio station 92 Zew will have a live feed from the Yacht Club for the duration of the event. Activities for children will be a bounce house\, waterslide and Kona truck free ice cream station.  We would like to thank Sysco Food Service for their donation to the event.\n\nOh yeah\, and did we mention free burgers and a souvenir Lake Forest logoed pint glass give away to the first 250 people.  Draft beers will be for sale along with a full bar.\n\nCome join us and enjoy the fun.
X-ALT-DESC;FMTTYPE=text/html:<p>The Lake Forest Yacht Club Public Grand Opening is July 4<sup>th</sup> from Noon to 4.00 pm.&nbsp\; We are very excited to have local band favorite Sugarcane Jane playing on the deck.&nbsp\; The radio station 92 Zew will have a live feed from the Yacht Club for the duration of the event. Activities for children will be a bounce house\, waterslide and Kona truck free ice cream station.&nbsp\; We would like to thank Sysco Food Service for their donation to the event.</p>\n\n<p>Oh yeah\, and did we mention free burgers and a souvenir Lake Forest logoed pint glass give away to the first 250 people.&nbsp\; Draft beers will be for sale along with a full bar.</p>\n\n<p>Come join us and enjoy the fun.</p>\n
LOCATION:1 Yacht Club Drive Daphne AL 36526
UID:e.1304.22068
SEQUENCE:3
DTSTAMP:20260420T115655Z
URL:https://business.eschamber.com/events/details/lake-forest-yacht-club-public-grand-opening-22068
END:VEVENT

END:VCALENDAR
