BEGIN:VCALENDAR
VERSION:2.0
PRODID:-//ChamberMaster//Event Calendar 2.0//EN
METHOD:PUBLISH
X-PUBLISHED-TTL:P3D
REFRESH-INTERVAL:P3D
CALSCALE:GREGORIAN
BEGIN:VEVENT
DTSTART;VALUE=DATE:20210411
DTEND;VALUE=DATE:20210412
TRANSP:TRANSPARENT
X-MICROSOFT-CDO-ALLDAYEVENT:TRUE
SUMMARY:Legends in Concert: Celebrate Vegas
DESCRIPTION:Legends in Concert presents the all-new Celebrate Vegas headlining the spring season at OWA! Our spring acts include Frank Sinatra\, Elvis Presley\, Cher\, and Lady Gaga! Legends in Concert is the longest-running show in Las Vegas history\, and after 35 years is still voted #1 tribute show in the city  and now it's here in Downtown OWA!
X-ALT-DESC;FMTTYPE=text/html:<strong><span style="color:rgb(0\, 178\, 196)">Legends in Concert&nbsp\;</span></strong><strong><span style="color:rgb(0\, 178\, 196)">presents the all-new&nbsp\;<em>Celebrate Vegas&nbsp\;</em>headlining the spring season at OWA! Our spring acts include Frank Sinatra\, Elvis Presley\, Cher\, and Lady Gaga!&nbsp\;</span>Legends in Concert is the longest-running show in Las Vegas history\, and after 35 years is still voted #1 tribute show in the city&hellip\; and now it&rsquo\;s here in Downtown OWA!</strong>
LOCATION:OWA Theater 205 N OWA BLVD Foley\, AL
UID:e.1304.20802
SEQUENCE:3
DTSTAMP:20260423T210941Z
URL:https://business.eschamber.com/events/details/legends-in-concert-celebrate-vegas-04-11-2021-20802
END:VEVENT

END:VCALENDAR
