BEGIN:VCALENDAR
VERSION:2.0
PRODID:-//ChamberMaster//Event Calendar 2.0//EN
METHOD:PUBLISH
X-PUBLISHED-TTL:P3D
REFRESH-INTERVAL:P3D
CALSCALE:GREGORIAN
BEGIN:VEVENT
DTSTART:20210205T010000Z
DTEND:20210205T023000Z
X-MICROSOFT-CDO-ALLDAYEVENT:FALSE
SUMMARY:Legends in Concert: Direct From London
DESCRIPTION:Legends in Concert Direct From London returns to OWA! Legends in Concert is the longest-running show in Las Vegas history\, and after 35 years is still voted #1 tribute show in the city  and now it's here in Downtown OWA! Legends in Concert presents Direct From London back by popular demand at OWA! Our winter acts include Elton John\, Freddie Mercury\, Rod Stewart\, and George Michael!
X-ALT-DESC;FMTTYPE=text/html:<strong><span style="color:rgb(0\, 178\, 196)">Legends in Concert&nbsp\;</span></strong><strong>Direct From London&nbsp\;returns to OWA! Legends in Concert is the longest-running show in Las Vegas history\, and after 35 years is still voted #1 tribute show in the city&hellip\; and now it&rsquo\;s here in Downtown OWA!&nbsp\;Legends in Concert presents&nbsp\;<em>Direct From London</em>&nbsp\;back by popular demand at OWA! Our winter acts include Elton John\, Freddie Mercury\, Rod Stewart\, and George Michael!</strong>
LOCATION:OWA Theater 205 North OWA Blvd. Foley\, Al 36535
UID:e.1304.19330
SEQUENCE:3
DTSTAMP:20260423T222627Z
URL:https://business.eschamber.com/events/details/legends-in-concert-direct-from-london-02-04-2021-19330
END:VEVENT

END:VCALENDAR
