BEGIN:VCALENDAR
VERSION:2.0
PRODID:-//ChamberMaster//Event Calendar 2.0//EN
METHOD:PUBLISH
X-PUBLISHED-TTL:P3D
REFRESH-INTERVAL:P3D
CALSCALE:GREGORIAN
BEGIN:VEVENT
DTSTART:20201022T223000Z
DTEND:20201023T000000Z
X-MICROSOFT-CDO-ALLDAYEVENT:FALSE
SUMMARY:Legends in Concert - Ladies Night
DESCRIPTION:Hey ladies! We have a special offer for you. Thursdays only\, 10/8-10/29\, you can save $5 on General Admission tickets to see Legends In Concert: Direct From London at the OWA Theater! Bring a friend and pass on the savings and the fun. See the stars LIVE in concert! It's Ladies Night!\n\nGet ready to be awed by Fernando Castro's flamboyant stage persona and four-octave vocal range tribute to Freddie Mercury. Take in the stunning wardrobe\, vocals\, and musicianship of Rus Anderson as the incomparable Elton John. Plus\, Rob Caudill returning as Rod Stewart playing all the sexy hits and Michael Knight as George Michael will leave you feeling the "Faith!" Hear your favorite songs. Watch them dance. Maybe even dance along with them! Grab your girlfriends and make your plans today. \n\nUse Code LADIES5 at checkout to save $5 on General Admission tickets. Offer valid Thursdays only\, 10/8-10/29.
X-ALT-DESC;FMTTYPE=text/html:<span style="font-family:tahoma\,sans-serif">Hey ladies! We have a special offer for you. Thursdays only\, 10/8-10/29\, you can save $5 on General Admission tickets to see Legends In Concert: Direct From London at the OWA Theater! Bring a friend and pass on the savings and the fun. See the stars LIVE in concert! It&rsquo\;s Ladies Night!</span><br />\n<span style="font-family:tahoma\,sans-serif">Get ready to be awed by Fernando Castro&rsquo\;s flamboyant stage persona and four-octave vocal range tribute to Freddie Mercury. Take in the stunning wardrobe\, vocals\, and musicianship of Rus Anderson as the incomparable Elton John. Plus\, Rob Caudill returning as Rod Stewart playing all the sexy hits and Michael Knight as George Michael will leave you feeling the &ldquo\;Faith!&rdquo\; Hear your favorite songs. Watch them dance. Maybe even dance along with them! Grab your girlfriends and make your plans today. </span><br />\n<span style="font-family:tahoma\,sans-serif">Use Code LADIES5 at checkout to save $5 on General Admission tickets. Offer valid Thursdays only\, 10/8-10/29. </span>
LOCATION:1501 S.OWA Blvd. Foley\, Al 36535
UID:e.1304.14808
SEQUENCE:3
DTSTAMP:20260424T054913Z
URL:https://business.eschamber.com/events/details/legends-in-concert-ladies-night-10-22-2020-14808
END:VEVENT

END:VCALENDAR
