BEGIN:VCALENDAR
VERSION:2.0
PRODID:-//ChamberMaster//Event Calendar 2.0//EN
METHOD:PUBLISH
X-PUBLISHED-TTL:P3D
REFRESH-INTERVAL:P3D
CALSCALE:GREGORIAN
BEGIN:VEVENT
DTSTART:20220810T003000Z
DTEND:20220810T020000Z
X-MICROSOFT-CDO-ALLDAYEVENT:FALSE
SUMMARY:Legends In Concert - Summer 2022 Lineup
DESCRIPTION:Legends in Concert and the OWA Theater are ready to kick-off summer with a sizzling hot lineup of tributes to some of the biggest names in music. The most-awarded show in Las Vegas history\, Legends in Concert\, brings a pop sensation\, the King of Pop\, a 13-time Grammy winner and fashion icon\, a 40-year pop music megastar and a little 24 karat magic\, together on one stage\, opening June 7. This show will feature not only the world's greatest tribute artists\, but also high energy dancers\, back-up vocalists\, a live band\, magnificent costumes\, elaborate theatrical sets\, a full array of incredible special effects\, and much more.\n\nFans will certainly feel the Roar of Nellie Norris' upbeat portrayal of Katy Perry and will find it hard to stay in their seats as they Shake Your Body down to the ground with Nae Cullors impeccable portrayal of Michael Jackson.   Lady Gaga returns with a Million Reasons to see Erika Moul's riveting performance of the Vegas Headliner\, and Nellie Norris returns to prove Girls Just Want to Have Fun as Cyndi Lauper. Isaiah Mercado\, as Bruno Mars\, will welcome you Just The Way You Are while bringing the Uptown Funk to the summer stage and is sure to have you dancing in the aisles.\n\nLegends in Concert will present summer line-up performances June 7   September 4\, at the OWA Theater\, located in Downtown OWA\, Tuesday through Saturday at 7:30pm\, and with weekly matinee performances Saturday and Sunday at 4pm.\n\n\n\n\n\nRun Dates\n\n\n\n\n\nJune 7   September 4\n\nTuesday through Saturday: 7:30pm\n\nSaturday & Sunday matinees: 4pm\n\nShowtimes and lineup subject to change.\n\nTickets are currently on sale and can be purchased at VisitOWA.com/Tickets or by calling 251-369-6100. Group discounts for 10+ are also available.
X-ALT-DESC;FMTTYPE=text/html:<div>\n<div>\n<p>Legends in Concert and the OWA Theater are ready to kick-off summer with a sizzling hot lineup of tributes to some of the biggest names in music. The most-awarded show in Las Vegas history\, Legends in Concert\, brings a pop sensation\, the King of Pop\, a 13-time Grammy winner and fashion icon\, a 40-year pop music megastar and a little 24 karat magic\, together on one stage\, opening June 7. This show will feature not only the world&rsquo\;s greatest tribute artists\, but also high energy dancers\, back-up vocalists\, a live band\, magnificent costumes\, elaborate theatrical sets\, a full array of incredible special effects\, and much more.</p>\n\n<p>Fans will certainly feel the&nbsp\;<em>Roar</em>&nbsp\;of Nellie Norris&rsquo\; upbeat portrayal of Katy Perry and will find it hard to stay in their seats as they&nbsp\;<em>Shake Your Body</em>&nbsp\;down to the ground with Nae Cullors impeccable portrayal of Michael Jackson.&nbsp\;&nbsp\; Lady Gaga returns with a&nbsp\;<em>Million Reasons</em>&nbsp\;to see Erika Moul&rsquo\;s riveting performance of the Vegas Headliner\, and Nellie Norris returns to prove&nbsp\;<em>Girls Just Want to Have Fun</em>&nbsp\;as Cyndi Lauper. Isaiah Mercado\, as Bruno Mars\, will welcome you&nbsp\;<em>Just The Way You Are</em>&nbsp\;while bringing the Uptown Funk to the summer stage and is sure to have you dancing in the aisles.</p>\n\n<p>Legends in Concert will present summer line-up performances June 7 &ndash\; September 4\, at the OWA Theater\, located in Downtown OWA\, Tuesday through Saturday at 7:30pm\, and with weekly matinee performances Saturday and Sunday at 4pm.</p>\n</div>\n</div>\n\n<div>\n<div>\n<h2>Run Dates</h2>\n</div>\n</div>\n\n<div>\n<div>\n<p>June 7 &ndash\; September 4</p>\n\n<p>Tuesday through Saturday: 7:30pm</p>\n\n<p>Saturday &amp\; Sunday matinees: 4pm</p>\n\n<p><em>Showtimes and lineup subject to change.</em></p>\n\n<p>Tickets are currently on sale and can be purchased at VisitOWA.com/Tickets or by calling 251-369-6100. Group discounts for 10+ are also available.&nbsp\;&nbsp\;</p>\n</div>\n</div>\n
LOCATION:205 N. OWA Blvd. Foley\, AL. 36535
UID:e.1304.23679
SEQUENCE:3
DTSTAMP:20260420T205030Z
URL:https://business.eschamber.com/events/details/legends-in-concert-summer-2022-lineup-08-09-2022-23679
END:VEVENT

END:VCALENDAR
