BEGIN:VCALENDAR
VERSION:2.0
PRODID:-//ChamberMaster//Event Calendar 2.0//EN
METHOD:PUBLISH
X-PUBLISHED-TTL:P3D
REFRESH-INTERVAL:P3D
CALSCALE:GREGORIAN
BEGIN:VEVENT
DTSTART:20211207T010000Z
DTEND:20211207T020000Z
X-MICROSOFT-CDO-ALLDAYEVENT:FALSE
SUMMARY:Lighting of the Menorah
DESCRIPTION:Lighting of the Menorah
X-ALT-DESC;FMTTYPE=text/html:Lighting of the Menorah
LOCATION:30500 Hwy 181\, Spanish Fort\, AL Eastern Shore Centre Courtyard
UID:e.1304.22891
SEQUENCE:3
DTSTAMP:20260419T115317Z
URL:https://business.eschamber.com/events/details/lighting-of-the-menorah-22891
END:VEVENT

END:VCALENDAR
