BEGIN:VCALENDAR
VERSION:2.0
PRODID:-//ChamberMaster//Event Calendar 2.0//EN
METHOD:PUBLISH
X-PUBLISHED-TTL:P3D
REFRESH-INTERVAL:P3D
CALSCALE:GREGORIAN
BEGIN:VEVENT
DTSTART:20210514T220000Z
DTEND:20210515T010000Z
X-MICROSOFT-CDO-ALLDAYEVENT:FALSE
SUMMARY:Live at Five
DESCRIPTION:Live at Five is thrilled to welcome The Tip Tops back to the stage with an opening set by Mobile's own Red and The Revelers. The Tip Tops are a high-energy dance and show band based out of Mobile\, AL. Their musical emphasis is "60's"\, "Motown" and "Rhythm & Blues." The 4 Tops\, Otis Redding\, The Temptations and Marvin Gaye are just a sample of the artists The Tip Tops cover. Mix in some "50's" from Elvis and Sam Cooke and some "80's" from Kool and The Gang and The Commodores and you have three decades of musical history. Red and the Revelers are a powerhouse swamp soul band from the Depths of Mobile. Lead by Red Padilla\, a singer armed with a powerful soul voice\, The Revelers consist of a full horn section rounded off with an assortment of exciting professional musicians hell bent on entertaining . Please get your tickets now and join us for an unforgettable night! As always\, food trucks will be on hand\, so bring your chair\, cooler\, and some friends and get to The Halstead Amphitheater on the campus of Coastal Alabama Community College.
X-ALT-DESC;FMTTYPE=text/html:Live at Five is thrilled to welcome The Tip Tops back to the stage with an opening set by Mobile&#39\;s own Red and The Revelers. The Tip Tops are a high-energy dance and show band based out of Mobile\, AL. Their musical emphasis is &quot\;60&#39\;s&quot\;\, &quot\;Motown&quot\; and &quot\;Rhythm &amp\; Blues.&quot\; The 4 Tops\, Otis Redding\, The Temptations and Marvin Gaye are just a sample of the artists The Tip Tops cover. Mix in some &quot\;50&#39\;s&quot\; from Elvis and Sam Cooke and some &quot\;80&#39\;s&quot\; from Kool and The Gang and The Commodores and you have three decades of musical history. Red and the Revelers are a powerhouse swamp soul band from the Depths of Mobile. Lead by Red Padilla\, a singer armed with a powerful soul voice\, The Revelers consist of a full horn section rounded off with an assortment of exciting professional musicians hell bent on entertaining . Please get your tickets now and join us for an unforgettable night! As always\, food trucks will be on hand\, so bring your chair\, cooler\, and some friends and get to The Halstead Amphitheater on the campus of Coastal Alabama Community College.
LOCATION:Halstead Amphitheater at Coastal Alabama Community College's Fairhope Campus\, corner of Morphy Avenue and Bancroft Street)
UID:e.1304.20598
SEQUENCE:3
DTSTAMP:20260423T175034Z
URL:https://business.eschamber.com/events/details/live-at-five-05-14-2021-20598
END:VEVENT

END:VCALENDAR
