BEGIN:VCALENDAR
VERSION:2.0
PRODID:-//ChamberMaster//Event Calendar 2.0//EN
METHOD:PUBLISH
X-PUBLISHED-TTL:P3D
REFRESH-INTERVAL:P3D
CALSCALE:GREGORIAN
BEGIN:VEVENT
DTSTART:20210327T153000Z
DTEND:20210327T182000Z
X-MICROSOFT-CDO-ALLDAYEVENT:FALSE
SUMMARY:Lunch Cruise
DESCRIPTION:Departing from the Blakeley dock at 10:30 AM on Saturday\, March 27th\, we'll venture through one of the nation's most biodiverse ecosystems as we wind our way to the popular Bluegill Restaurant on the Mobile Causeway. Afterwards we will take an alternate route back to the park as we keep an eye out for some of the area's famed wildlife\, such as alligators\, ospreys\, bald eagles\, and numerous other species of plants and animals unique to this area. Enjoy this special cruise from the comfort of the Delta Explorer\, our covered pontoon boat equipped with bench seating and a restroom. Tickets include lunch\; please call Blakeley at 251-626-0798 ext. 2 or email us at gatehouse@blakeleypark.com to indicate your choice of dish from the list below when purchasing tickets. All choices come with beverage and fries. A) Fish\, Crawfish\, or Shrimp Po-Boy (grilled\, blackened\, or fried) B) Fish Plate (grilled\, blackened\, or fried) C) Fried Shrimp Plate D) Soup 'n Sandwich (Gumbo or Crab and Corn Soup with either Turkey\, Ham\, or Pimento Cheese) E) Grilled Chicken Plate F) Soup 'n Salad G) Bluegill Burger or Cheeseburger H) Chicken Tenders
X-ALT-DESC;FMTTYPE=text/html:Departing from the Blakeley dock at 10:30 AM on Saturday\, March 27th\, we&rsquo\;ll venture through one of the nation&rsquo\;s most biodiverse ecosystems as we wind our way to the popular Bluegill Restaurant on the Mobile Causeway. Afterwards we will take an alternate route back to the park as we keep an eye out for some of the area&rsquo\;s famed wildlife\, such as alligators\, ospreys\, bald eagles\, and numerous other species of plants and animals unique to this area. Enjoy this special cruise from the comfort of the Delta Explorer\, our covered pontoon boat equipped with bench seating and a restroom. Tickets include lunch\; please call Blakeley at 251-626-0798 ext. 2 or email us at gatehouse@blakeleypark.com to indicate your choice of dish from the list below when purchasing tickets. All choices come with beverage and fries. A) Fish\, Crawfish\, or Shrimp Po-Boy (grilled\, blackened\, or fried) B) Fish Plate (grilled\, blackened\, or fried) C) Fried Shrimp Plate D) Soup &lsquo\;n Sandwich (Gumbo or Crab and Corn Soup with either Turkey\, Ham\, or Pimento Cheese) E) Grilled Chicken Plate F) Soup &lsquo\;n Salad G) Bluegill Burger or Cheeseburger H) Chicken Tenders
LOCATION:Blakeley Dock
UID:e.1304.19451
SEQUENCE:3
DTSTAMP:20260423T204542Z
URL:https://business.eschamber.com/events/details/lunch-cruise-03-27-2021-19451
END:VEVENT

END:VCALENDAR
