BEGIN:VCALENDAR
VERSION:2.0
PRODID:-//ChamberMaster//Event Calendar 2.0//EN
METHOD:PUBLISH
X-PUBLISHED-TTL:P3D
REFRESH-INTERVAL:P3D
CALSCALE:GREGORIAN
BEGIN:VEVENT
DTSTART:20211009T153000Z
DTEND:20211009T183000Z
X-MICROSOFT-CDO-ALLDAYEVENT:FALSE
SUMMARY:Lunch Cruise
DESCRIPTION:Departing from the Blakeley dock at 10:30 AM on Saturday\, October 9th\, we'll venture through one of the nation's most biodiverse ecosystems as we wind our way to the popular Bluegill Restaurant on the Mobile Causeway. Afterwards we will take an alternate route back to the park as we keep an eye out for some of the area's famed wildlife\, such as alligators\, ospreys\, bald eagles\, and numerous other species of plants and animals unique to this area. Enjoy this special cruise from the comfort of the Delta Explorer\, our covered pontoon boat equipped with bench seating and a restroom. Tickets include lunch\; please indicate your choice of meal and beverage during booking.
X-ALT-DESC;FMTTYPE=text/html:Departing from the Blakeley dock at 10:30 AM on Saturday\, October 9th\, we&rsquo\;ll venture through one of the nation&rsquo\;s most biodiverse ecosystems as we wind our way to the popular Bluegill Restaurant on the Mobile Causeway. Afterwards we will take an alternate route back to the park as we keep an eye out for some of the area&rsquo\;s famed wildlife\, such as alligators\, ospreys\, bald eagles\, and numerous other species of plants and animals unique to this area. Enjoy this special cruise from the comfort of the Delta Explorer\, our covered pontoon boat equipped with bench seating and a restroom. Tickets include lunch\; please indicate your choice of meal and beverage during booking.
LOCATION:Blakeley dock
UID:e.1304.22495
SEQUENCE:3
DTSTAMP:20260425T141409Z
URL:https://business.eschamber.com/events/details/lunch-cruise-10-09-2021-22495
END:VEVENT

END:VCALENDAR
