BEGIN:VCALENDAR
VERSION:2.0
PRODID:-//ChamberMaster//Event Calendar 2.0//EN
METHOD:PUBLISH
X-PUBLISHED-TTL:P3D
REFRESH-INTERVAL:P3D
CALSCALE:GREGORIAN
BEGIN:VEVENT
DTSTART:20210316T223000Z
DTEND:20210316T233000Z
X-MICROSOFT-CDO-ALLDAYEVENT:FALSE
SUMMARY:Making 2021 IMPACTful drive-thru
DESCRIPTION:Join us on our quest in "Making 2021 IMPACTful" by helping us fill the pot of "gold" for our Impact 100 grants. Impact 100 Baldwin County is hosting four drive-thru pop-up events throughout Baldwin County. Drop by your nearest location to drop off your membership application\, pick up an Impact 100 face mask\, enter to win a gift basket to be drawn at the big reveal\, and grab some goodies! The first 50 people will received a "Proud Impact 100 Member" yard sign. So grab your PLUS ONE and drop by for some St. Patrick's Day fun!
X-ALT-DESC;FMTTYPE=text/html:Join us on our quest in &quot\;Making 2021 IMPACTful&quot\; by helping us fill the pot of &quot\;gold&quot\; for our Impact 100 grants. Impact 100 Baldwin County is hosting four drive-thru pop-up events throughout Baldwin County. Drop by your nearest location to drop off your membership application\, pick up an Impact 100 face mask\, enter to win a gift basket to be drawn at the big reveal\, and grab some goodies! The first 50 people will received a &quot\;Proud Impact 100 Member&quot\; yard sign. So grab your PLUS ONE and drop by for some St. Patrick&#39\;s Day fun!
LOCATION:Fairhope: Fairhope Civic Center\; Daphne: Daphne Civic Center (The Chew Chew food truck will be at the Daphne location\; Foley: Wolf Bay Lodge (in back parking lot)\; Bay Minette: Bay Minette Civic Center
UID:e.1304.20505
SEQUENCE:3
DTSTAMP:20260423T204403Z
URL:https://business.eschamber.com/events/details/making-2021-impactful-drive-thru-20505
END:VEVENT

END:VCALENDAR
