BEGIN:VCALENDAR
VERSION:2.0
PRODID:-//ChamberMaster//Event Calendar 2.0//EN
METHOD:PUBLISH
X-PUBLISHED-TTL:P3D
REFRESH-INTERVAL:P3D
CALSCALE:GREGORIAN
BEGIN:VEVENT
DTSTART:20210411T160000Z
DTEND:20210411T220000Z
X-MICROSOFT-CDO-ALLDAYEVENT:FALSE
SUMMARY:Malbis Spring Market
DESCRIPTION:Join us on Sunday\, April 11th at the Historic Malbis Nursery for our first official Malbis Spring Market! Invite your friends for a fun filled day of food trucks and shopping with multiple local vendors!
X-ALT-DESC;FMTTYPE=text/html:Join us on Sunday\, April 11th at the Historic Malbis Nursery for our first official Malbis Spring Market! Invite your friends for a fun filled day of food trucks and shopping with multiple local vendors!
LOCATION:Historic Malbis Nursery\, 10145 US-90\, Daphne\, AL 36526
UID:e.1304.20585
SEQUENCE:3
DTSTAMP:20260423T204405Z
URL:https://business.eschamber.com/events/details/malbis-spring-market-20585
END:VEVENT

END:VCALENDAR
