BEGIN:VCALENDAR
VERSION:2.0
PRODID:-//ChamberMaster//Event Calendar 2.0//EN
METHOD:PUBLISH
X-PUBLISHED-TTL:P3D
REFRESH-INTERVAL:P3D
CALSCALE:GREGORIAN
BEGIN:VEVENT
DTSTART:20240720T140000Z
DTEND:20240720T160000Z
X-MICROSOFT-CDO-ALLDAYEVENT:FALSE
SUMMARY:Manatee Habitat Cruise
DESCRIPTION:A partnership with the Dauphin Island Sea Lab and the Manatee Sighting Network\, this cruise explores the habitat within reaches of the middle and lower Delta where rare sightings of manatees have been documented. We will learn about these gentle giants and what draws them to these waters
X-ALT-DESC;FMTTYPE=text/html:A partnership with the Dauphin Island Sea Lab and the Manatee Sighting Network\, this cruise explores the habitat within reaches of the middle and lower Delta where rare sightings of manatees have been documented. We will learn about these gentle giants and what draws them to these waters
LOCATION:Bartram dock at Five Rivers Delta Resource Center
UID:e.1304.32064
SEQUENCE:3
DTSTAMP:20260419T191214Z
URL:https://business.eschamber.com/events/details/manatee-habitat-cruise-07-20-2024-32064
END:VEVENT

END:VCALENDAR
