BEGIN:VCALENDAR
VERSION:2.0
PRODID:-//ChamberMaster//Event Calendar 2.0//EN
METHOD:PUBLISH
X-PUBLISHED-TTL:P3D
REFRESH-INTERVAL:P3D
CALSCALE:GREGORIAN
BEGIN:VEVENT
DTSTART:20201024T190000Z
DTEND:20201024T210000Z
X-MICROSOFT-CDO-ALLDAYEVENT:FALSE
SUMMARY:Mary Chavez "Live" FB event
DESCRIPTION:Please join us for a "Live" Facebook event featuring Mary Chavez\, a jazz vocalist\, pianist and composer from Seattle\, Washington. Although primarily self-taught she studied with jazz pianist notables Butch Nordal of the Tonight Show\, Randy Halberstadt of Seattle\, Washington\, and west coast jazz drummer and pianist Thomas Kelly. She also studied classical piano with Whitworth alumni Tom Hall and Taubman technique with Spokane Symphony pianist Linda Sieverts. Mary composes and arranges in a variety of genres including\, jazz\, Americana\, gospel\, pop\, and blues.
X-ALT-DESC;FMTTYPE=text/html:Please join us for a &quot\;Live&quot\; Facebook event featuring Mary Chavez\, a jazz vocalist\, pianist and composer from Seattle\, Washington. Although primarily self-taught she studied with jazz pianist notables Butch Nordal of the Tonight Show\, Randy Halberstadt of Seattle\, Washington\, and west coast jazz drummer and pianist Thomas Kelly. She also studied classical piano with Whitworth alumni Tom Hall and Taubman technique with Spokane Symphony pianist Linda Sieverts. Mary composes and arranges in a variety of genres including\, jazz\, Americana\, gospel\, pop\, and blues.
LOCATION:Facebook "Live" at https://www.facebook.com/steinwayES/
UID:e.1304.14838
SEQUENCE:3
DTSTAMP:20260424T043939Z
URL:https://business.eschamber.com/events/details/mary-chavez-live-fb-event-14838
END:VEVENT

END:VCALENDAR
