BEGIN:VCALENDAR
VERSION:2.0
PRODID:-//ChamberMaster//Event Calendar 2.0//EN
METHOD:PUBLISH
X-PUBLISHED-TTL:P3D
REFRESH-INTERVAL:P3D
CALSCALE:GREGORIAN
BEGIN:VEVENT
DTSTART:20220919T130000Z
DTEND:20220919T213000Z
X-MICROSOFT-CDO-ALLDAYEVENT:FALSE
SUMMARY:Mastering the Art of Professional Presentations
DESCRIPTION:It is widely known that public speaking is something that many people would like to avoid. Yet\, the ability to make effective presentations is a competence that is highly useful in the workplace. This 8- hour interactive workshop will break down this seemingly difficult undertaking into manageable steps that will provide attendees the skills to better communicate\, inform and persuade. These steps such as coping with nervousness\, knowing your audience\, and organizing your thoughts will decrease anxiety\, increase confidence and enable you to master the art of professional presentations.
X-ALT-DESC;FMTTYPE=text/html:It is widely known that public speaking is something that many people would like to avoid. Yet\, the ability to make effective presentations is a competence that is highly useful in the workplace. This 8- hour interactive workshop will break down this seemingly difficult undertaking into manageable steps that will provide attendees the skills to better communicate\, inform and persuade. These steps such as coping with nervousness\, knowing your audience\, and organizing your thoughts will decrease anxiety\, increase confidence and enable you to master the art of professional presentations.
LOCATION:University of South Alabama\, Baldwin County Campus (Fairhope)
UID:e.1304.25895
SEQUENCE:3
DTSTAMP:20260423T192151Z
URL:https://business.eschamber.com/events/details/mastering-the-art-of-professional-presentations-25895
END:VEVENT

END:VCALENDAR
