BEGIN:VCALENDAR
VERSION:2.0
PRODID:-//ChamberMaster//Event Calendar 2.0//EN
METHOD:PUBLISH
X-PUBLISHED-TTL:P3D
REFRESH-INTERVAL:P3D
CALSCALE:GREGORIAN
BEGIN:VEVENT
DTSTART:20230830T213000Z
DTEND:20230830T233000Z
X-MICROSOFT-CDO-ALLDAYEVENT:FALSE
SUMMARY:Meet and Greet
DESCRIPTION:This is an event I do weekly for my guests in the hotel and would like to extend the invitation to our local community.
X-ALT-DESC;FMTTYPE=text/html:This is an event I do weekly for my guests in the hotel and would like to extend the invitation to our local community.
LOCATION:Comfort Suites 29450 N. Main St. Daphne\, AL. 36526
UID:e.1304.28019
SEQUENCE:3
DTSTAMP:20260420T015900Z
URL:https://business.eschamber.com/events/details/meet-and-greet-28019
END:VEVENT

END:VCALENDAR
