BEGIN:VCALENDAR
VERSION:2.0
PRODID:-//ChamberMaster//Event Calendar 2.0//EN
METHOD:PUBLISH
X-PUBLISHED-TTL:P3D
REFRESH-INTERVAL:P3D
CALSCALE:GREGORIAN
BEGIN:VEVENT
DTSTART:20230810T160000Z
DTEND:20230810T180000Z
X-MICROSOFT-CDO-ALLDAYEVENT:FALSE
SUMMARY:Mid-Day Delta Cruise
DESCRIPTION:This two-hour excursion showcases the incredible beauty and natural diversity of the waterways of the Mobile-Tensaw Delta. Traversing local rivers\, creeks\, and bays\, these outings feature unique opportunities to view the abundance of delta wildlife\, such as eagles\, ospreys and\, of course\, alligators. Optional boxed lunch for an additional fee\; soft drinks and water provided.
X-ALT-DESC;FMTTYPE=text/html:This two-hour excursion showcases the incredible beauty and natural diversity of the waterways of the Mobile-Tensaw Delta. Traversing local rivers\, creeks\, and bays\, these outings feature unique opportunities to view the abundance of delta wildlife\, such as eagles\, ospreys and\, of course\, alligators. Optional boxed lunch for an additional fee\; soft drinks and water provided.
LOCATION:Bartram Landing at Five Rivers Delta Resource Center
UID:e.1304.27737
SEQUENCE:3
DTSTAMP:20260420T035206Z
URL:https://business.eschamber.com/events/details/mid-day-delta-cruise-08-10-2023-27737
END:VEVENT

END:VCALENDAR
