BEGIN:VCALENDAR
VERSION:2.0
PRODID:-//ChamberMaster//Event Calendar 2.0//EN
METHOD:PUBLISH
X-PUBLISHED-TTL:P3D
REFRESH-INTERVAL:P3D
CALSCALE:GREGORIAN
BEGIN:VEVENT
DTSTART:20210722T210000Z
DTEND:20210722T220000Z
X-MICROSOFT-CDO-ALLDAYEVENT:FALSE
SUMMARY:Misfit Adventures: Beer Yoga
DESCRIPTION:Our July Misfit Adventure will be beer Yoga at True Yoga Therapy.\n\n\n\nThere will be beer on hand or you are welcome to bring your own (2 beers/person max).\n\n\n\nThis will be a beginner-friendly yoga class that incorporates beer drinking into the practice itself.You can expect it to be both fun and refreshing!
X-ALT-DESC;FMTTYPE=text/html:Our July Misfit Adventure will be beer Yoga at True Yoga Therapy.<br />\n<br />\nThere will be beer on hand or you are welcome to bring your own (2 beers/person max).<br />\n<br />\nThis will be a beginner-friendly yoga class that incorporates beer drinking into the practice itself.You can expect it to be both fun and refreshing!
LOCATION:True Yoga Therapy 26050 Predazzer Lane\, Suite B Daphne It's located of County Road 64\, right before The Dog Ranch and in the same building as Elite Real Estate and Realand Title. Take the entrance to the Winged Foot subdivision.
UID:e.1304.22046
SEQUENCE:3
DTSTAMP:20260420T131314Z
URL:https://business.eschamber.com/events/details/misfit-adventures-beer-yoga-22046
END:VEVENT

END:VCALENDAR
