BEGIN:VCALENDAR
VERSION:2.0
PRODID:-//ChamberMaster//Event Calendar 2.0//EN
METHOD:PUBLISH
X-PUBLISHED-TTL:P3D
REFRESH-INTERVAL:P3D
CALSCALE:GREGORIAN
BEGIN:VEVENT
DTSTART:20191027T003000Z
DTEND:20191027T023000Z
X-MICROSOFT-CDO-ALLDAYEVENT:FALSE
SUMMARY:Mobile Ballet presents "Giselle"
DESCRIPTION:Mobile Ballet returns this fall in a stage journey from love and passion to tragedy and exhilaration in the sophomore season under Artistic Director Katia Garza. Giselle is a powerful production and is about a peasant girl who dies of a broken heart on discovery her lover Albrecht is betrothed to another. Her spirit haunts the forest and inevitably saves her true love's life.
X-ALT-DESC;FMTTYPE=text/html:Mobile Ballet returns this fall in a stage journey from love and passion to tragedy and exhilaration in the sophomore season under Artistic Director Katia Garza. Giselle is a powerful production and is about a peasant girl who dies of a broken heart on discovery her lover Albrecht is betrothed to another. Her spirit haunts the forest and inevitably saves her true love&#39\;s life.
LOCATION:Mobile Civic Center Theater Mobile\, AL
UID:e.1304.13004
SEQUENCE:3
DTSTAMP:20260419T154932Z
URL:https://business.eschamber.com/events/details/mobile-ballet-presents-giselle-13004
END:VEVENT

END:VCALENDAR
