BEGIN:VCALENDAR
VERSION:2.0
PRODID:-//ChamberMaster//Event Calendar 2.0//EN
METHOD:PUBLISH
X-PUBLISHED-TTL:P3D
REFRESH-INTERVAL:P3D
CALSCALE:GREGORIAN
BEGIN:VEVENT
DTSTART:20240712T233000Z
DTEND:20240713T013000Z
X-MICROSOFT-CDO-ALLDAYEVENT:FALSE
SUMMARY:Mobile Harbor Sunset Cruise
DESCRIPTION:This cruise provides guests a unique opportunity to explore one of the nation's busiest harbors. Guests will enjoy a rare waterfront view of all the activity at the state docks and within the larger port as they learn about both Mobile's state of the art facilities and its rich maritime heritage.
X-ALT-DESC;FMTTYPE=text/html:This cruise provides guests a unique opportunity to explore one of the nation&#39\;s busiest harbors. Guests will enjoy a rare waterfront view of all the activity at the state docks and within the larger port as they learn about both Mobile&#39\;s state of the art facilities and its rich maritime heritage.
LOCATION:Mobile Dock
UID:e.1304.31421
SEQUENCE:3
DTSTAMP:20260419T192816Z
URL:https://business.eschamber.com/events/details/mobile-harbor-sunset-cruise-07-12-2024-31421
END:VEVENT

END:VCALENDAR
