BEGIN:VCALENDAR
VERSION:2.0
PRODID:-//ChamberMaster//Event Calendar 2.0//EN
METHOD:PUBLISH
X-PUBLISHED-TTL:P3D
REFRESH-INTERVAL:P3D
CALSCALE:GREGORIAN
BEGIN:VEVENT
DTSTART:20210508T150000Z
DTEND:20210508T200000Z
X-MICROSOFT-CDO-ALLDAYEVENT:FALSE
SUMMARY:Mommy & Me Day at the Eastern Shore Centre
DESCRIPTION:Celebrate Motherhood May 8th 10-3pm at the Stage Pavilion. Born to Birth Yoga and Butterflies Dancing present "Mommy and Me Day at the Eastern Shore Centre"!\n\n\n\nWe hope you will join us for a FREE Babywearing Dance Class\, Mommy and Me Yoga...GIVEAWAYS and MORE!\n\n\n\nConnection has never been so important\, we hope you will enjoy a day of community!\n\n\n\nStay for Mother's Day specials for shopping and dining at the Eastern Shore Centre!
X-ALT-DESC;FMTTYPE=text/html:<span style="color:rgb(5\, 5\, 5)\; font-family:system-ui\,-apple-system\,system-ui\,.sfnstext-regular\,sans-serif\; font-size:15px"><strong>Celebrate Motherhood May 8th 10-3pm at the Stage Pavilion</strong>. <em>Born to Birth Yoga</em> and <em>Butterflies Dancing</em> present &quot\;Mommy and Me Day at the Eastern Shore Centre&quot\;!<br />\n<br />\nWe hope you will join us for a FREE Babywearing Dance Class\, Mommy and Me Yoga...GIVEAWAYS and MORE!<br />\n<br />\nConnection has never been so important\, we hope you will enjoy a day of community!<br />\n<br />\nStay for Mother&#39\;s Day specials for shopping and dining at the Eastern Shore Centre!</span>
LOCATION:Eastern Shore Centre Stage Pavilion 30500 Hwy 181 Spanish Fort\, AL. 36527
UID:e.1304.20668
SEQUENCE:3
DTSTAMP:20260423T175245Z
URL:https://business.eschamber.com/events/details/mommy-me-day-at-the-eastern-shore-centre-20668
END:VEVENT

END:VCALENDAR
